BEGIN:VCALENDAR
VERSION:2.0
PRODID:-// - ECPv6.15.20//NONSGML v1.0//EN
CALSCALE:GREGORIAN
METHOD:PUBLISH
X-ORIGINAL-URL:https://www.gym-bux-sued.de
X-WR-CALDESC:Veranstaltungen für 
REFRESH-INTERVAL;VALUE=DURATION:PT1H
X-Robots-Tag:noindex
X-PUBLISHED-TTL:PT1H
BEGIN:VTIMEZONE
TZID:Europe/Berlin
BEGIN:DAYLIGHT
TZOFFSETFROM:+0100
TZOFFSETTO:+0200
TZNAME:CEST
DTSTART:20230326T010000
END:DAYLIGHT
BEGIN:STANDARD
TZOFFSETFROM:+0200
TZOFFSETTO:+0100
TZNAME:CET
DTSTART:20231029T010000
END:STANDARD
BEGIN:DAYLIGHT
TZOFFSETFROM:+0100
TZOFFSETTO:+0200
TZNAME:CEST
DTSTART:20240331T010000
END:DAYLIGHT
BEGIN:STANDARD
TZOFFSETFROM:+0200
TZOFFSETTO:+0100
TZNAME:CET
DTSTART:20241027T010000
END:STANDARD
BEGIN:DAYLIGHT
TZOFFSETFROM:+0100
TZOFFSETTO:+0200
TZNAME:CEST
DTSTART:20250330T010000
END:DAYLIGHT
BEGIN:STANDARD
TZOFFSETFROM:+0200
TZOFFSETTO:+0100
TZNAME:CET
DTSTART:20251026T010000
END:STANDARD
END:VTIMEZONE
BEGIN:VEVENT
DTSTART;VALUE=DATE:20241003
DTEND;VALUE=DATE:20241004
DTSTAMP:20260426T054035
CREATED:20240803T112032Z
LAST-MODIFIED:20240803T112032Z
UID:13561-1727913600-1727999999@www.gym-bux-sued.de
SUMMARY:Tag der Deutschen Einheit
DESCRIPTION:
URL:https://www.gym-bux-sued.de/termin/tag-der-deutschen-einheit/
END:VEVENT
BEGIN:VEVENT
DTSTART;VALUE=DATE:20241004
DTEND;VALUE=DATE:20241019
DTSTAMP:20260426T054035
CREATED:20240803T112123Z
LAST-MODIFIED:20240803T112123Z
UID:13563-1728000000-1729295999@www.gym-bux-sued.de
SUMMARY:Herbstferien
DESCRIPTION:
URL:https://www.gym-bux-sued.de/termin/herbstferien/
END:VEVENT
BEGIN:VEVENT
DTSTART;VALUE=DATE:20241023
DTEND;VALUE=DATE:20241024
DTSTAMP:20260426T054035
CREATED:20240827T170651Z
LAST-MODIFIED:20240919T175647Z
UID:13642-1729641600-1729727999@www.gym-bux-sued.de
SUMMARY:Präventionstag "Fit durch die Oberstufe" Jg12
DESCRIPTION:
URL:https://www.gym-bux-sued.de/termin/praeventionstag-fit-durch-die-oberstufe-jg11-und-12/
END:VEVENT
END:VCALENDAR